BEGIN:VCALENDAR
METHOD:PUBLISH
PRODID:-//Weblication CMS
VERSION:2.0
BEGIN:VEVENT
SUMMARY:Abteilungsdienst Lienzingen
DTSTART:20181015T193000
DTEND:20181015T220000
DESCRIPTION:Ausbildungsdienst der Feuerwehr Mühlacker Abt. Lienzingen 
LOCATION:Lienzingen
UID:https://www.feuerwehr-muehlacker.de/de/veranstaltungen/termine/2691081715.php
URL:https://www.feuerwehr-muehlacker.de/de/veranstaltungen/termine/2691081715.php
END:VEVENT
BEGIN:VEVENT
SUMMARY:Abteilungsdienst Lienzingen
DTSTART:20181022T193000
DTEND:20181022T220000
DESCRIPTION:Ausbildungsdienst der Feuerwehr Mühlacker Abt. Lienzingen 
LOCATION:Lienzingen
UID:https://www.feuerwehr-muehlacker.de/de/veranstaltungen/termine/2691081715.php
URL:https://www.feuerwehr-muehlacker.de/de/veranstaltungen/termine/2691081715.php
END:VEVENT
END:VCALENDAR